Workbook

Sheet Fortegnsregler
A1: Fortegnsregler i oppgjørspakken
C3: 41625
A19: Andre forhold i oppgjørspakken

Sheet Prinsippnote - SRS
A2: =Resultatregnskap!A3 -> Virksomhet: Universitetet i Oslo
A4: Prinsippnote - SRS

Sheet Resultatregnskap
A1: Resultatregnskap
A3: Virksomhet: Universitetet i Oslo
A4: Org.nr: 971035854
A5: Beløp i 1000 kroner
B6: Note | C6: 45657 | D6: 45291 | E6: Referanse
A7: Driftsinntekter
A8: Inntekt fra bevilgninger | B8: 1 | C8: 6461900 | D8: 6429044.1 | E8: RE.1
A9: Inntekt fra tilskudd og overføringer | B9: 1 | C9: 2170712 | D9: 2256088.2 | E9: RE.3
A10: Inntekt fra gebyrer | B10: 1 | C10: 0 | D10: 0 | E10: RE.2
A11: Salgs- og leieinntekter | B11: 1 | C11: 765600 | D11: 784770.15 | E11: RE.5
A12: Andre driftsinntekter | B12: 1 | C12: 76614 | D12: 59786.46 | E12: RE.6
A13: Sum driftsinntekter | C13: =SUBTOTAL(9,C8:C12) -> 9474826 | D13: =SUBTOTAL(9,D8:D12) -> 9529688.9 | E13: RE.7
A15: Driftskostnader
A16: Varekostnader | C16: 12939 | D16: 9729.9759 | E16: RE.9
A17: Lønnskostnader | B17: 2 | C17: 6693667 | D17: 6364984.2 | E17: RE.8
A18: Avskrivninger på varige driftsmidler og immaterielle eiendeler | B18: 4.5 | C18: 658331 | D18: 661776.67 | E18: RE.12
A19: Nedskrivninger av varige driftsmidler og immaterielle eiendeler | B19: 4.5 | C19: 0 | D19: 16 | E19: RE.13
A20: Andre driftskostnader | B20: 3 | C20: 2384682 | D20: 2447626 | E20: RE.10
A21: Sum driftskostnader | C21: =SUBTOTAL(9,C16:C20) -> 9749619 | D21: =SUBTOTAL(9,D16:D20) -> 9484132.9 | E21: RE.14
A23: Driftsresultat | C23: =C13-C21 -> -274793 | D23: =D13-D21 -> 45556.04 | E23: RE.15
A25: Finansinntekter og finanskostnader
A26: Finansinntekter | B26: 6 | C26: 12984 | D26: 12748.671 | E26: RE.16
A27: Finanskostnader | B27: 6 | C27: 6769 | D27: 11945.106 | E27: RE.17
A28: Sum finansinntekter og finanskostnader | C28: =C26-C27 -> 6215 | D28: =D26-D27 -> 803.56483 | E28: RE.18
A30: Resultat av periodens aktiviteter | C30: =C23+C28 -> -268578 | D30: =D23+D28 -> 46359.605 | E30: RE.21
A32: Avregninger og disponeringer
A33: Avregning bevilgningsfinansiert aktivitet (nettobudsjetterte) | B33: 15 I | C33: 282394 | D33: -21092 | E33: RE.23
A34: Disponering av periodens resultat (til virksomhetskapital) | B34: 8 | C34: -13815.964 | D34: -25266.927 | E34: RE.26
A35: Sum avregninger og disponeringer | C35: =SUBTOTAL(9,C33:C34) -> 268578.04 | D35: =SUBTOTAL(9,D33:D34) -> -46358.927 | E35: RE.24
A37: Innkrevningsvirksomhet og andre overføringer til staten
A38: Avgifter og gebyrer direkte til statskassen | B38: 9 | E38: RE.28
A39: Avregning med statskassen innkrevningsvirksomhet | B39: 9 | E39: RE.30
A40: Sum innkrevningsvirksomhet og andre overføringer til staten | C40: =SUBTOTAL(9,C38:C39) -> 0 | D40: =SUBTOTAL(9,D38:D39) -> 0 | E40: RE.31
A42: Tilskuddsforvaltning og andre overføringer fra staten
A43: Tilskudd til andre | B43: 10 | E43: RE.33
A44: Avregning med statskassen tilskuddsforvaltning | E44: RE.32
A45: Sum tilskuddsforvaltning og andre overføringer fra staten | C45: =C44-C43 -> 0 | D45: =D44-D43 -> 0 | E45: RE.34

Sheet Balanse - eiendeler
A1: Balanse
A3: =+Resultatregnskap!A3 -> Virksomhet: Universitetet i Oslo
A5: Beløp i 1000 kroner
B6: Note | C6: =Resultatregnskap!C6 -> 45657 | D6: =Resultatregnskap!D6 -> 45291 | E6: Referanse
A7: EIENDELER
A9: A. Anleggsmidler
A11: I Immaterielle eiendeler
A12: Programvare og lignende rettigheter | B12: 4 | C12: 11914.554 | D12: 15861.418 | E12: AI.02
A13: Immaterielle eiendeler under utførelse | B13: 4 | E13: AI.02A
A14: Sum immaterielle eiendeler | C14: =SUBTOTAL(9,C12:C13) -> 11914.554 | D14: =SUBTOTAL(9,D12:D13) -> 15861.418 | E14: AI.1
A16: II Varige driftsmidler
A17: Tomter, bygninger og annen fast eiendom | B17: 5 | C17: 9377429.7 | D17: 9321009.4 | E17: AII.01
A18: Maskiner og transportmidler | B18: 5 | C18: 458482.13 | D18: 447447.76 | E18: AII.02
A19: Driftsløsøre, inventar, verktøy og lignende | B19: 5 | C19: 454051.41 | D19: 505880.56 | E19: AII.03
A20: Anlegg under utførelse | B20: 5 | C20: 119132.56 | D20: 156324.89 | E20: AII.04
A21: Infrastruktureiendeler | B21: 5 | E21: AII.06
A22: Sum varige driftsmidler | C22: =SUBTOTAL(9,C17:C21) -> 10409096 | D22: =SUBTOTAL(9,D17:D21) -> 10430663 | E22: AII.1
A24: III Finansielle anleggsmidler
A25: Investeringer i aksjer og andeler | B25: 11 | C25: 31255.378 | D25: 31255.378 | E25: AIII.03
A26: Obligasjoner | E26: AIII.04
A27: Andre fordringer | B27: 11A | E27: AIII.04A
A28: Sum finansielle anleggsmidler | C28: =SUBTOTAL(9,C25:C27) -> 31255.378 | D28: =SUBTOTAL(9,D25:D27) -> 31255.378 | E28: AIII.1
A30: Sum anleggsmidler | C30: =SUBTOTAL(9,C12:C29) -> 10452266 | D30: =SUBTOTAL(9,D12:D29) -> 10477779 | E30: AIV.1
A32: B. Omløpsmidler
A34: I Beholdninger av varer og driftsmateriell
A35: Beholdninger av varer og driftsmateriell | B35: 12 | C35: 4369.3089 | D35: 4415 | E35: BI.1
A36: Sum beholdning av varer og driftsmateriell | C36: =SUBTOTAL(9,C35:C35) -> 4369.3089 | D36: =SUBTOTAL(9,D35:D35) -> 4415 | E36: BI.3
A38: II Fordringer
A39: Kundefordringer | B39: 13 | C39: 235707.62 | D39: 357895.83 | E39: BII.1
A40: Opptjente, ikke fakturerte inntekter | B40: 16 | C40: 112198.09 | D40: 63134.861 | E40: BII.3
A41: Andre fordringer | B41: 14 | C41: 54344.982 | D41: 97835.991 | E41: BII.2
A42: Sum fordringer | C42: =SUBTOTAL(9,C39:C41) -> 402250.69 | D42: =SUBTOTAL(9,D39:D41) -> 518866.68 | E42: BII.4
A44: III Bankinnskudd, kontanter og lignende
A45: Bankinnskudd på konsernkonto i Norges Bank | B45: 17 | C45: 3007999.8 | D45: 2986197.8 | E45: BIV.1
A46: Bankinnskudd for gaver og gaveforsterkninger | B46: 17 | C46: 101354.6 | D46: 116333.42 | E46: BIV.2A
A47: Andre bankinnskudd | B47: 17 | C47: 176446.8 | D47: 153494.59 | E47: BIV.2B
A48: Kontanter og lignende | B48: 17 | C48: 47.62958 | D48: 119.19465 | E48: BIV.3
A49: Sum bankinnskudd, kontanter og lignende | C49: =SUBTOTAL(9,C45:C48) -> 3285848.9 | D49: =SUBTOTAL(9,D45:D48) -> 3256145 | E49: BIV.4
A51: Sum omløpsmidler | C51: =SUBTOTAL(9,C35:C50) -> 3692468.9 | D51: =SUBTOTAL(9,D35:D50) -> 3779426.7 | E51: BIV.5
A53: Sum eiendeler drift | C53: =SUBTOTAL(9,C11:C52) -> 14144735 | D53: =SUBTOTAL(9,D11:D52) -> 14257206 | E53: BIV.6
...

Sheet Balanse - Gjeld og kapital
A1: Balanse
A3: =+Resultatregnskap!A3 -> Virksomhet: Universitetet i Oslo
A4: Beløp i 1000 kroner
B5: Note | C5: =Resultatregnskap!C6 -> 45657 | D5: ='Balanse - eiendeler'!D6 -> 45291 | E5: Referanse
A6: STATENS KAPITAL OG GJELD
A8: C. Statens kapital
A10: I Virksomhetskapital
A11: Innskutt virksomhetskapital | B11: 8 | C11: 6022.588 | D11: 6022.588 | E11: CI.01
A12: Opptjent virksomhetskapital | B12: 8 | C12: 237607.69 | D12: 223791.73 | E12: CI.03
A13: Sum virksomhetskapital | C13: =SUBTOTAL(9,C11:C12) -> 243630.28 | D13: =SUBTOTAL(9,D11:D12) -> 229814.32 | E13: CI.1
A15: II Avregninger
A16: Avregnet bevilgningsfinansiert virksomhet (nettobudsjetterte) | B16: 15 I | C16: 285602 | D16: 567996 | E16: CII.02
A17: Sum avregninger | C17: =SUBTOTAL(9,C16:C16) -> 285602 | D17: =SUBTOTAL(9,D16:D16) -> 567996 | E17: CII.1
A19: III Utsatt inntektsføring av bevilgning (nettobudsjetterte)
A20: Statens finansiering av immaterielle eiendeler og varige driftsmidler | B20: 4, 5 | C20: 10421010 | D20: 10446524 | E20: CIII.01
A21: Ikke inntektsført bevilgning | B21: 15 III | E21: CIII.02
A22: Sum utsatt inntektsføring av bevilgning (nettobudsjetterte) | C22: =SUBTOTAL(9,C20:C21) -> 10421010 | D22: =SUBTOTAL(9,D20:D21) -> 10446524 | E22: CIII.1A
A24: Sum statens kapital | C24: =SUBTOTAL(9,C11:C23) -> 10950243 | D24: =SUBTOTAL(9,D11:D23) -> 11244334 | E24: SK.1
A26: D. Gjeld
A28: I Avsetning for langsiktige forpliktelser
A29: Avsetninger langsiktige forpliktelser | B29: 19 | C29: 129966.24 | D29: 143900.22 | E29: DI.01
A30: Sum avsetning for langsiktige forpliktelser | C30: =SUBTOTAL(9,C29:C29) -> 129966.24 | D30: =SUBTOTAL(9,D29:D29) -> 143900.22 | E30: DI.3
A32: II Annen langsiktig gjeld
A33: Øvrig langsiktig gjeld | E33: DII.01
A34: Sum annen langsiktig gjeld | C34: =SUBTOTAL(9,C33) -> 0 | D34: =SUBTOTAL(9,D33) -> 0 | E34: DII.1
A36: III Kortsiktig gjeld
A37: Leverandørgjeld | C37: 443422.21 | D37: 506242.21 | E37: DIII.1
A38: Skyldig skattetrekk og andre trekk | C38: 222470.56 | D38: 230690.33 | E38: DIII.2
A39: Skyldige offentlige avgifter | C39: 274494.13 | D39: 283171.13 | E39: DIII.3
A40: Avsatte feriepenger | C40: 563818.14 | D40: 555098.94 | E40: DIII.4
A41: Ikke inntektsført tilskudd og overføringer (nettobudsjetterte) | B41: 15 II | C41: 607510.17 | D41: 513909.94 | E41: DIII.05
A42: Mottatt forskuddsbetaling | B42: 16 | C42: 315035.78 | D42: 372664.71 | E42: DIII.06
A43: Annen kortsiktig gjeld | B43: 18 | C43: 637774.45 | D43: 407194.22 | E43: DIII.6
A44: Sum kortsiktig gjeld | C44: =SUBTOTAL(9,C37:C43) -> 3064525.5 | D44: =SUBTOTAL(9,D37:D43) -> 2868971.5 | E44: DIII.7
A46: Sum gjeld | C46: =SUBTOTAL(9,C29:C45) -> 3194491.7 | D46: =SUBTOTAL(9,D29:D45) -> 3012871.7 | E46: DIII.9
A48: Sum statens kapital og gjeld drift | C48: =SUBTOTAL(9,C11:C46) -> 14144734 | D48: =SUBTOTAL(9,D11:D46) -> 14257206 | E48: CD.1
A50: IV Gjeld vedrørende tilskuddsforvaltning og andre overføringer
A51: Ikke utbetalt bevilgning mottatt til tilskuddsforvaltning (nettobudsjetterte) | B51: 10B | E51: DIV.01
A52: Gjeld vedrørende tilskuddsforvaltning og andre overføringer fra staten | E52: DIV.02
A53: Sum gjeld vedrørende tilskuddsforvaltning og andre overføringer | C53: =SUBTOTAL(9,C51:C52) -> 0 | D53: =SUBTOTAL(9,D51:D52) -> 0 | E53: DIV.1
...

Sheet Kontantstrømoppstilling
A2: =Resultatregnskap!A3 -> Virksomhet: Universitetet i Oslo
A4: Kontantstrømoppstilling for nettobudsjetterte virksomheter (direkte modell)
A6: Beløp i 1000 kroner | B6: =Resultatregnskap!C6 -> 45657 | C6: =Resultatregnskap!D6 -> 45291 | D6: Budsjett 2025 | E6: Referanse
A7: Kontantstrømmer fra driftsaktiviteter
A8: Innbetalinger
A9: innbetalinger av bevilgning fra fagdepartementet (nettobudsjetterte) | B9: 6481095 | C9: 6260575 | D9: 6647292 | E9: KS.1A
A10: innbetalinger av bevilgninger fra andre departementer (nettobudsjetterte) | B10: 0 | C10: 4000 | E10: KS.1B
A11: innbetalinger fra salg av varer og tjenester | B11: =864169 -> 864169 | C11: 642122 | D11: 800000 | E11: KS.4
A12: innbetalinger av avgifter, gebyrer og lisenser | D12: 0 | E12: KS.5
A13: innbetalinger av tilskudd og overføringer | B13: 2289338 | C13: 2495991 | D13: 2300000 | E13: KS.6
A14: innbetaling av refusjoner | B14: 218050.35 | C14: 192803 | D14: 200000 | E14: KS.9
A15: innbetalinger knyttet til konsortie-/samarbeidsavtaler | B15: 301107.91 | C15: 426213 | D15: 240000 | E15: KS.9A
A16: andre innbetalinger | B16: 60975 | C16: 51805 | D16: 50000 | E16: KS.10
A17: Sum innbetalinger | B17: =SUM(B9:B16) -> 10214735 | C17: =SUM(C9:C16) -> 10073509 | D17: =SUM(D9:D16) -> 10237292 | E17: KS.INN
A18: Utbetalinger
A19: utbetalinger av lønn og sosiale kostnader | B19: 6220086.7 | C19: 5975889 | D19: 6800000 | E19: KS.11
A20: utbetalinger for kjøp av varer og tjenester | B20: 2378309.8 | C20: 2211460 | D20: 2500000 | E20: KS.12
A21: utbetalinger av skatter og offentlige avgifter | B21: 765430.91 | C21: 813499 | D21: 800000 | E21: KS.14
A22: utbetalinger og overføringer til andre statsetater | B22: 370.88 | C22: 1402 | D22: 0 | E22: KS.14A
A23: utbetalinger og overføringer til andre virksomheter | B23: 192328.7 | C23: 340277 | D23: 200000 | E23: KS.14B
A24: andre utbetalinger | B24: 497.29 | C24: 51 | D24: 0 | E24: KS.15
A25: Sum utbetalinger | B25: =SUM(B19:B24) -> 9557024.3 | C25: =SUM(C19:C24) -> 9342578 | D25: =SUM(D19:D24) -> 10300000 | E25: KS.UT
A27: Netto kontantstrøm fra driftsaktiviteter* | B27: =B17-(B25) -> 657710.93 | C27: =C17-C25 -> 730931 | D27: =D17-D25 -> -62708 | E27: KS.OP
A29: Kontantstrømmer fra investeringsaktiviteter
A30: innbetalinger ved salg av immaterielle eiendeler og varige driftsmidler (+) | B30: 0 | C30: 4 | D30: 0 | E30: KS.16
A31: utbetalinger ved kjøp av immaterielle eiendeler og varige driftsmidler (-) | B31: -632855.75 | C31: -502219 | D31: -550000 | E31: KS.17
A32: innbetalinger ved salg av aksjer og andeler (+) | B32: 0 | C32: 0 | D32: 0 | E32: KS.18
A33: utbetalinger ved kjøp av aksjer og andeler (-) | B33: 0 | C33: 0 | D33: 0 | E33: KS.19
A34: innbetalinger ved salg av obligasjoner og andre fordringer (+) | B34: 0 | C34: 0 | D34: 0 | E34: KS.21A
A35: utbetalinger ved kjøp av obligasjoner og andre fordringer (-) | B35: 0 | C35: 0 | D35: 0 | E35: KS.21B
A36: innbetalinger av utbytte (+) | B36: 0 | C36: 0 | D36: 0 | E36: KS.7
A37: innbetalinger av renter (+) | B37: 4978.13 | C37: 4027 | D37: 5000 | E37: KS.8
A38: utbetalinger av renter (-) | B38: -116.06 | C38: -235 | D38: 100 | E38: KS.13
A39: Netto kontantstrøm fra investeringsaktiviteter | B39: =SUBTOTAL(9,B30:B38) -> -627993.68 | C39: =SUBTOTAL(9,C30:C38) -> -498423 | D39: =SUBTOTAL(9,D30:D38) -> -544900 | E39: KS.INV
A41: Kontantstrømmer fra finansieringsaktiviteter
A42: innbetalinger av virksomhetskapital (+) | B42: 0 | C42: 0 | D42: 0 | E42: KS.22
A43: tilbakebetalinger av virksomhetskapital (-) | B43: 0 | C43: 0 | D43: 0 | E43: KS.23
A44: utbetalinger av utbytte til statskassen (-) | B44: 0 | C44: 0 | D44: 0 | E44: KS.24
A45: Netto kontantstrøm fra finansieringsaktiviteter | B45: =SUBTOTAL(9,B42:B44) -> 0 | C45: =SUBTOTAL(9,C42:C44) -> 0 | D45: =SUBTOTAL(9,D42:D44) -> 0 | E45: KS.FIN
A47: Kontantstrømmer knyttet til overføringer
...

Sheet Prinsipp for  bevilgningsoppst.
A2: =Resultatregnskap!A3 -> Virksomhet: Universitetet i Oslo
A4: Prinsippnote for bevilgningsoppstilling
A6: Årsregnskapet for statlige forvaltningsorganer med særskilte fullmakter til bruttoføring utenfor statsbudsjettet (nettobudsjetterte virksomheter) er utarbeidet og avlagt etter nærmere retningslinjer i bestemmelser om økonomistyring i staten ("bestemmelsene"). Årsregnskapet er i henhold til krav i bestemmelsene punkt 3.4.1, nærmere bestemmelser i Finansdepartementets rundskriv R-115 og tilleggskrav fastsatt av Kunnskapsdepartementet.
A11: Virksomheten er tilknyttet statens konsernkontoordning i Norges Bank i henhold til bestemmelsenes punkt 3.7.1. Nettobudsjetterte virksomheter får bevilgningen fra Kunnskapsdepartementet innbetalt på sin bankkonto. Beholdninger på virksomhets oppgjørskonto i Norges Bank overføres til nytt år.
A15: Bevilgningsoppstillingen omfatter perioden fra 1. januar til den aktuelle balansedagen.
A17: Bevilgningsoppstillingens del I viser hva virksomheten har fått stilt til disposisjon i henhold til tildelingsbrev og hvilke utbetalinger som er registrert i statens konsernkontosystem. Utbetalingene er knyttet til og avstemt mot tildelingsbrevene og er satt opp etter inndelingen Stortinget har fastsatt for budsjettet og de spesifikasjonene som er angitt i tildelingsbrevene.
A21: Bevilgningsoppstillingens del II omfatter det som er rapportert i likvidrapporten til statsregnskapet. Likvidrapporten viser saldo og likvidbevegelser på virksomhetens oppgjørskonto og øvrige konti i Norges Bank. Beholdningene rapportert i likvidrapporten er avstemt mot statens konsernkontosystem og øvrige beholdninger i Norges Bank.
A25: Bevilgningsoppstillingens del III viser alle finansielle eiendeler som virksomheten er ført opp med i statens kapitalregnskap. Beholdningene i statens kapitalregnskap er basert på at transaksjonene er ført med verdien på betalingstidspunktet. Verdien på balansedagen er satt til historisk kostpris på transaksjonstidspunktet.

Sheet Bevilgningsoppstilling
A2: =Resultatregnskap!A3 -> Virksomhet: Universitetet i Oslo
A4: Oppstilling av bevilgningsrapportering for 2024 for nettobudsjetterte virksomheter pr. 31.12.2024
A6: Del I
A7: Samlet tildeling i henhold til tildelingsbrev
A8: Utgiftskapittel | B8: Kapittelnavn | C8: Post | D8: Posttekst | H8: Samlet tildeling | I8: Referanse
A9: 260 | B9: Universiteter og høyskoler | C9: 50 | D9: Statlige universiteter og høyskoler | H9: 6480730 | I9: BRIII.011
A10: 201 | B10: Analyse og kunnskapsgrunnlag | C10: 21 | D10: Særskilde driftsutgifter | H10: 365 | I10: BRIII.015
A11: 275 | B11: Tiltak for høyere utdanning og forskning | C11: 21 | D11: Spesielle driftsutgifter, kan overføres, kan nyttes under post 70 | H11: 0 | I11: BRIII.016
A12: 275 | B12: Tiltak for høyere utdanning og forskning | C12: 45 | D12: Større utstyrsanskaffelser og vedlikehold, kan overføres | H12: 0 | I12: BRIII.017
A13: 275 | B13: Tiltak for høyere utdanning og forskning | C13: 70 | D13: Tilskudd, kan nyttes under post 21 | H13: 0 | I13: BRIII.018
A14: 2xx | B14: Formålet/virksomheten | H14: 0 | I14: BRIII.019
A15: 2xx | B15: Formålet/virksomheten | H15: 0 | I15: BRIII.019
A16: 2xx | B16: Formålet/virksomheten | H16: 0 | I16: BRIII.019
A17: Samlet sum på kapitler og poster under Kunnskapsdepartementet (programområde 07) | H17: =SUBTOTAL(9,H9:H16) -> 6481095 | I17: BRIII.01A
A19: xxxx | B19: [Formålet/Virksomheten] | C19: xx | H19: 0 | I19: BRIII.021
A20: xxxx | B20: [Formålet/Virksomheten] | C20: xx | H20: 0 | I20: BRIII.021
A21: Sum tildelinger på andre kapitler og poster i statsbudsjettet | H21: =SUBTOTAL(9,H19:H20) -> 0 | I21: BRIII.02
A23: Sum tildelinger i alt | H23: =SUBTOTAL(9,H9:H21) -> 6481095 | I23: BRIII.1
A25: 2xx | B25: Formålet/virksomheten | D25: Tilbakebetaling av bevilgning gitt i tidligere regnskapsår3) | H25: 0 | I25: BRIII.020
A26: Sum tildelinger og tilbakebetalinger fra tidligere år | H26: =SUBTOTAL(9,H9:H21)-H25 -> 6481095 | I26: BRIII.1A
A28: DEL II
A29: Beholdninger rapportert i likvidrapport 1) | E29: Note | H29: Regnskap 31.12.2024 | I29: Referanse
A30: Oppgjørskonto i Norges Bank
A31: Inngående saldo på oppgjørskonto i Norges Bank | E31: 17 | H31: 2986197.8 | I31: BRII.001
A32: Endringer i perioden (+/-) | H32: 21802 | I32: BRII.002
A33: Sum utgående saldo på oppgjørskonto i Norges Bank | E33: 17 | H33: =SUBTOTAL(9,H31:H32) -> 3007999.8 | I33: BRII.1
A35: Øvrige bankkonti Norges Bank2)
A36: Inngående saldo på i øvrige bankkonti i Norges Bank | E36: 17 | H36: 116333.42 | I36: BRII.021
A37: Endringer i perioden (+/-) | H37: -14978.813 | I37: BRII.022
A38: Sum utgående saldo på øvrige bankkonti i Norges Bank | E38: 17 | H38: =SUBTOTAL(9,H36:H37) -> 101354.6 | I38: BRII.2
A40: Del III
A41: Beløp i 1 000 kroner
A42: Beholdninger på konti i kapitalregnskapet
A43: Konto | B43: Tekst | E43: Note | F43: =Resultatregnskap!C6 -> 45657 | G43: ='Balanse - eiendeler'!D6 -> 45291 | H43: Endring | I43: Referanse
A44: 6001/8202xx | B44: Oppgjørskonto i Norges Bank | E44: 17 | F44: 3007999.8 | G44: 2986197.8 | H44: =SUM(F44-G44) -> 21801.992 | I44: BRI.011
A45: 628002 | B45: Leieboerinnskudd | E45: 11 | F45: 750 | G45: 750 | H45: =SUM(F45-G45) -> 0 | I45: BRI.012
A46: 6402xx/8102xx | B46: Gaver og gaveforsterkninger | F46: 101354.6 | G46: 116333.42 | H46: =SUM(F46-G46) -> -14978.813 | I46: BRI.015
A48: 1) Dersom virksomheten disponerer flere oppgjørskontoer i Norges Bank enn den ordinære driftskontoen, skal også disse beholdningen spesifiseres med inngående saldo, endring i perioden og utgående saldo. Slike beholdninger skal også inngå i oversikten over beholdninger rapportert til kapitalregnskapet. Vesentlige beløp spesifiseres særskilt nedenfor.
A51: 2) Oversikten skal omfatte andre konti som virksomheten har i Norges Bank. Som eksempel nevnes gavekonti.
A53: 3) Ved tilbakebetaling av bevilgning gitt i tidligere regnskapsår, skal det spesifiseres under oppstillingen hva dette gjelder

Sheet Note1
A2: =Resultatregnskap!A3 -> Virksomhet: Universitetet i Oslo
A4: Note 1 Spesifikasjon av driftsinntekter
A5: Beløp i 1000 kroner
B6: =Resultatregnskap!C6 -> 45657 | C6: =Resultatregnskap!D6 -> 45291 | D6: =Kontantstrømoppstilling!D6 -> Budsjett 2025 | E6: Referanse
A7: Inntekt fra bevilgninger fra Kunnskapsdepartementet
A8: Periodens bevilgning fra Kunnskapsdepartementet | B8: 6430730 | C8: 6260575 | D8: 6647292 | E8: N1.2
A9: - brutto benyttet til investeringsformål/varige driftsmidler av periodens bevilgning / driftstilskudd (-) | B9: -632855.75 | C9: -502218.76 | D9: -550000 | E9: N1.3
A10: + utsatt inntekt fra forpliktelse knyttet til investeringer (avskrivninger) (+) | B10: 658331.14 | C10: 661776.67 | D10: 650000 | E10: N1.5
A11: + utsatt inntekt fra forpliktelse knyttet til investeringer (nedskrivninger) (+) | B11: 0 | C11: 15.85318 | D11: 0 | E11: N1.5A
A12: + utsatt inntekt fra forpliktelse knyttet til investeringer, bokført verdi avhendede anleggsmidler (+) | B12: 38.30421 | C12: 21.15731 | D12: 0 | E12: N1.6
A13: - periodens tilskudd til andre (-) | B13: -370.879 | C13: -1402.057 | D13: -1000 | E13: N1.8
A14: Andre poster som vedrører bevilgninger fra Kunnskapsdepartementet1) | B14: 3111.915 | C14: 2538.978 | D14: 2500 | E14: N1.9
A15: Sum inntekt fra bevilgninger fra Kunnskapsdepartementet | B15: =SUBTOTAL(9,B8:B14) -> 6458984.7 | C15: =SUBTOTAL(9,C8:C14) -> 6421306.8 | D15: =SUBTOTAL(9,D8:D14) -> 6748792 | E15: N1.10
A17: Inntekt fra bevilgninger fra andre departement
A18: Periodens tilskudd/overføring fra andre departement1) | B18: 2915.7117 | C18: 7737.2988 | D18: 3000 | E18: N1.11A
A19: - brutto benyttet til investeringsformål/varige driftsmidler av periodens bevilgning /driftstilskudd (-) | B19: 0 | C19: 0 | D19: 0 | E19: N1.12
A20: - ubrukt bevilgning til investeringsformål (bruttobudsjetterte virksomheter) | B20: 0 | C20: 0 | D20: 0 | E20: N1.13
A21: + utsatt inntekt fra forpliktelse knyttet til investeringer (avskrivninger) (+) | B21: 0 | C21: 0 | D21: 0 | E21: N1.14
A22: + utsatt inntekt fra forpliktelse knyttet til investeringer (nedskrivninger) (+) | B22: 0 | C22: 0 | D22: 0 | E22: N1.14A
A23: + utsatt inntekt fra forpliktelse knyttet til investeringer, bokført verdi avhendede anleggsmidler (+) | B23: 0 | C23: 0 | D23: 0 | E23: N1.15
A24: - tilskudd til andre (-) | B24: 0 | C24: 0 | D24: 0 | E24: N1.17
A25: Andre poster som vedrører tilskudd og overføringer fra andre departement (spesifiseres) | B25: 0 | C25: 0 | D25: 0 | E25: N1.18
A26: Sum inntekt fra bevilgninger fra andre departement | B26: =SUBTOTAL(9,B18:B25) -> 2915.7117 | C26: =SUBTOTAL(9,C18:C25) -> 7737.2988 | D26: =SUBTOTAL(9,D18:D25) -> 3000 | E26: N1.19
A28: 1) Vesentlige tilskudd/overføringer skal spesifiseres på egne linjer under oppstillingen.
A30: Sum inntekt fra bevilgninger (linje RE.1 i resultatregnskapet) | B30: =SUBTOTAL(9,B8:B26) -> 6461900.4 | C30: =SUBTOTAL(9,C8:C26) -> 6429044.1 | D30: =SUBTOTAL(9,D8:D26) -> 6751792 | E30: N1.20
A32: Gebyrer og lisenser1) 2)
A33: Gebyrer | B33: 0 | C33: 0 | D33: 0 | E33: N1.661
A34: Lisenser | B34: 0 | C34: 0 | D34: 0 | E34: N1.662
A35: Sum inntekt fra gebyrer (linje RE.2 i resultatregnskapet) | B35: =SUBTOTAL(9,B33:B34) -> 0 | C35: =SUBTOTAL(9,C33:C34) -> 0 | D35: =SUBTOTAL(9,D33:D34) -> 0 | E35: N1.66
A37: 1) Vesentlige inntekter av denne typen skal spesifiseres i egne avsnitt under oppstillingen. Dette avsnittet skal bare brukes når gebyrene eller lisensene skal klassifiseres som driftsinntekt for institusjonen. 2) Dersom institusjonen krever inn gebyrer eller mottar midler knyttet til lisenser på vegne av staten og som skal overføres til statskassen, skal slike midler klassifiseres som innkrevingsvirksomhet og presenteres i avsnittet for innkrevingsvirksomhet i resultatregnskapet og spesifiseres i note 9.
A42: Tilskudd og overføringer fra statlige etater1)
A43: Periodens tilskudd/overføring fra andre statlige etater | B43: 326066.54 | C43: 305360.25 | D43: 300000 | E43: N1.21
A44: Periodens netto tilskudd fra andre statlige etater | B44: =SUBTOTAL(9,B43:B43) -> 326066.54 | C44: =SUBTOTAL(9,C43:C43) -> 305360.25 | D44: =SUBTOTAL(9,D43:D43) -> 300000 | E44: N1.21E
A45: Periodens tilskudd/overføring direkte fra Norges forskningsråd (NFR) | B45: 963100.33 | C45: 1063794.9 | D45: 1100000 | E45: N1.23
A46: + periodens tilskudd fra NFR via andre virksomheter (+) | B46: 161188.56 | C46: 171383.49 | D46: 160000 | E46: N1.23A
A47: Periodens netto tilskudd fra NFR | B47: =SUBTOTAL(9,B45:B46) -> 1124288.9 | C47: =SUBTOTAL(9,C45:C46) -> 1235178.4 | D47: =SUBTOTAL(9,D45:D46) -> 1260000 | E47: N1.29A
A48: Sum tilskudd og overføringer fra statlige etater | B48: =SUBTOTAL(9,B43:B47) -> 1450355.4 | C48: =SUBTOTAL(9,C43:C47) -> 1540538.7 | D48: =SUBTOTAL(9,D43:D47) -> 1560000 | E48: N1.31
A50: 1) Vesentlige bidrag skal spesifiseres i egne avsnitt under oppstillingen. Linjene N1.21 skal bare omfatte tilskudd/overføringer som omfattes av bestemmelsene i rundskriv F-07-13. Midler som benyttes til investeringer, skal behandles etter forpliktelsesmodellen og spesifiseres i KD-avsnittet. Oppdragsinntekter og salgs- og leieinntekter skal spesifiseres i de respektive avsnittene nedenfor.
A53: Tilskudd til annen bidragsfinansiert aktivitet1)
A54: Periodens tilskudd/overføring fra regionale forskningsfond (RFF) | B54: 534.9727 | C54: 47.57838 | D54: 300 | E54: N1.22A
...

Sheet Note2 og 3
A2: =Resultatregnskap!A3 -> Virksomhet: Universitetet i Oslo
A4: Note 2 Lønnskostnader
A6: DEL I
A7: Beløp i 1000 kroner | B7: =Resultatregnskap!C6 -> 45657 | C7: =Resultatregnskap!D6 -> 45291 | D7: Referanse
A8: Lønn* | B8: 4915654.7 | C8: 4701627.1 | D8: N2.1
A9: Feriepenger | B9: 584130.84 | C9: 570323.67 | D9: N2.2
A10: Arbeidsgiveravgift* | B10: 832231.98 | C10: 806320.67 | D10: N2.3
A11: Pensjonskostnader1) | B11: 463959.91 | C11: 364638.8 | D11: N2.4
A12: Lønn balanseført ved egenutvikling av anleggsmidler (-)2) | B12: 0 | C12: 0 | D12: N2.12
A13: Sykepenger og andre refusjoner (-) | B13: -221993.65 | C13: -190100.68 | D13: N2.5
A14: Andre ytelser | B14: 119683.57 | C14: 112174.64 | D14: N2.6
A15: Sum lønnskostnader | B15: =SUM(B8:B14) -> 6693667.3 | C15: =SUM(C8:C14) -> 6364984.2 | D15: N2.7
A17: Antall utførte årsverk: | B17: 6648 | C17: 6711 | D17: N2.8
A19: 1) Pensjonskostnaden i 2024 er basert på et estimat for pensjonspremien beregnet av SPK og ikke faktisk pensjonspremie. Dette skyldes at lønnsoppgjøret i staten for 2024 ikke var ferdigstilt før i slutten av november 2024.
A20: Premiesatsen for arbeidsgiverandelen utgjør for 2024 9,1 prosent.For regnskapsåret 2023 utgjorde premiesatsen 8,9 prosent. Premiesatsen bygger på estimert premie fra SPK inkludert en risikomargin UiO har valgt å legge til.
A22: 2) Inneholder lønn og sosiale kostnader (feriepenger, arbeidsgiveravgift og pensjonskostnader).
A24: 3) På bakgrunn av at lønnsoppgjøret i staten for 2024 ikke var ferdig før i slutten av november, har ikke UiO utbetalt resultatet av lønnsoppgjøret i 2024.
A25: UiO har derfor gjort et estimat for lønnsavsetning for det sentrale lønnsoppgjøret som utgjør 91,8 mill. kroner. Lønnsavsetningen inkluderer feriepenger, og det er avsatt for arbeidsgiveravgift av lønnsavsetningen.
A26: UiO har ikke eget bidrag til lønnsforhandlinger utover det som er fremforhandlet sentralt.
A30: DEL II
A31: Lønn og godtgjørelser til ledende personer | B31: Lønn | C31: Andre godtgjørelser | D31: SUM | E31: DBH-referanse
A32: Rektor (gjelder også dersom rektor er tilsatt) | B32: 1869336 | C32: 0 | D32: =SUM(B32:C32) -> 1869336 | E32: N2I.01
A33: Ekstern styreleder (gjelder institusjoner som har tilsatt rektor) | B33: 1775729 | C33: 0 | D33: =SUM(B33:C33) -> 1775729 | E33: N2I.02
A34: Administrerende direktør | B34: 0 | C34: 0 | D34: =SUM(B34:C34) -> 0 | E34: N2I.03
A37: Lønn og godtgjørelser til ledende personer oppgis i kroner i samsvar med faktiske utbetalinger for regnskapsåret 2024.
A40: Note 3 Andre driftskostnader
A41: Beløp i 1000 kroner
B42: =B7 -> 45657 | C42: =C7 -> 45291 | D42: Referanse
A43: Husleie | B43: 355223.29 | C43: 355799.12 | D43: N3.1
A44: Vedlikehold egne bygg og anlegg | B44: 110782.45 | C44: 110525.14 | D44: N3.2
A45: Vedlikehold og ombygging av leide lokaler | B45: 4806.8296 | C45: 2694.7625 | D45: N3.3
A46: Andre kostnader til drift av eiendom og lokaler | B46: 304952.81 | C46: 324989.12 | D46: N3.4
A47: Reparasjon og vedlikehold av maskiner, utstyr mv. | B47: 34162.145 | C47: 33927.301 | D47: N3.5
A48: Mindre utstyrsanskaffelser | B48: 27155.152 | C48: 36056.636 | D48: N3.6
A49: Tap ved avgang anleggsmidler | B49: 30.65107 | C49: 1.66767 | D49: N3.6A
A50: Leie av maskiner, inventar og lignende | B50: 95554.946 | C50: 96033.12 | D50: N3.7
A51: Kjøp av konsulenttjenester fra kommunikasjonsbransjen | B51: 7084.9357 | C51: 0 | D51: N3.8C
A52: Kjøp av andre konsulenttjenester | B52: 136640.08 | C52: 152982.02 | D52: N3.8A
A53: Kjøp av andre fremmede tjenester | B53: 423459.19 | C53: 431482.09 | D53: N3.8B
A54: Reiser og diett | B54: 236882.1 | C54: 247363.44 | D54: N3.9
...

Sheet Note4
A2: =Resultatregnskap!A3 -> Virksomhet: Universitetet i Oslo
A4: Note 4 Immaterielle eiendeler
A5: Beløp i 1000 kroner
B6: Programvare og lignende rettigheter | C6: Immaterielle eiendeler under utførelse | D6: SUM | E6: Referanse
A7: Anskaffelseskost pr. 31.12.2023 | B7: 23570 | C7: 0 | D7: =SUM(B7:C7) -> 23570 | E7: N4.1
A8: + tilgang i 2024 (+) | B8: 887.46477 | C8: 0 | D8: =SUM(B8:C8) -> 887.46477 | E8: N4.2
A9: - avgang til anskaffelseskost i 2024 (-) | B9: 0 | C9: 0 | D9: =SUM(B9:C9) -> 0 | E9: N4.3
A10: +/- fra eiendel under utførelse til annen gruppe (+/-) | B10: 0 | C10: 0 | D10: =SUM(B10:C10) -> 0 | E10: N4.3A
A11: Anskaffelseskost 31.12.2024 | B11: =SUBTOTAL(9,B7:B10) -> 24457.465 | C11: =SUBTOTAL(9,C7:C10) -> 0 | D11: =SUBTOTAL(9,D7:D10) -> 24457.465 | E11: N4.4
A12: - akkumulerte nedskrivninger pr. 31.12.2023 (-) | B12: 0 | C12: 0 | D12: =SUM(B12:C12) -> 0 | E12: N4.5
A13: - nedskrivninger i 2024 (-) | B13: 0 | C13: 0 | D13: =SUM(B13:C13) -> 0 | E13: N4.6
A14: - akkumulerte avskrivninger pr. 31.12.2023 (-) | B14: -7709.0379 | C14: 0 | D14: =SUM(B14:C14) -> -7709.0379 | E14: N4.7
A15: - ordinære avskrivninger i 2024 (-) | B15: -4834.3287 | C15: 0 | D15: =SUM(B15:C15) -> -4834.3287 | E15: N4.8
A16: + akkumulert avskrivning ved avgang i 2024 (+) | B16: 0 | C16: 0 | D16: =SUM(B16:C16) -> 0 | E16: N4.9
A17: Balanseført verdi 31.12.2024 | B17: =SUBTOTAL(9,B7:B16) -> 11914.098 | C17: =SUBTOTAL(9,C7:C16) -> 0 | D17: =SUBTOTAL(9,D7:D16) -> 11914.098 | E17: N4.10
A19: Avskrivningssatser (levetider) | B19: 5 år / lineært | C19: Ingen
A22: Tilleggsopplysninger når det er avhendet immaterielle eiendeler:
A23: Salgssum ved avgang anleggsmidler | B23: 0 | C23: 0 | D23: =SUM(B23:C23) -> 0 | E23: N4.11
A24: - Bokført verdi avhendede anleggsmidler | B24: 0 | C24: 0 | D24: =SUM(B24:C24) -> 0 | E24: N4.12
A25: Regnskapsmessig gevinst/tap | B25: =SUM(B23:B24) -> 0 | C25: =SUM(C23:C24) -> 0 | D25: =SUM(D23:D24) -> 0 | E25: N4.13

Sheet Note5
A2: =Resultatregnskap!A3 -> Virksomhet: Universitetet i Oslo
A4: Note 5 Varige driftsmidler
A5: Beløp i 1000 kroner
B6: Tomter | C6: Bygninger og annen fast eiendom | D6: Anlegg under utførelse | E6: Infrastruktur- eiendeler | F6: Maskiner og transport-midler | G6: Driftsløsøre, inventar, verktøy o.l. | H6: Sum | I6: Referanse
A7: Anskaffelseskost pr. 31.12.2023 | B7: 916619.99 | C7: 21656983 | D7: 156324.91 | E7: 0 | F7: 2327925.4 | G7: 1499253.5 | H7: =SUM(B7:G7) -> 26557107 | I7: N5.1
A8: + tilgang nybygg i 2024 - eksternt finansiert (+) | B8: 0 | C8: 0 | D8: 0 | E8: 0 | F8: 0 | G8: 0 | H8: =SUM(B8:G8) -> 0 | I8: N5.20
A9: + tilgang nybygg i 2024 - internt finansiert (+) | B9: 0 | C9: 0 | D9: 0 | E9: 0 | F9: 0 | G9: 0 | H9: =SUM(B9:G9) -> 0 | I9: N5.20A
A10: + andre tilganger i 2024 (+) | B10: 0 | C10: 256580.35 | D10: 147920.67 | E10: 0 | F10: 106322.79 | G10: 121144.47 | H10: =SUM(B10:G10) -> 631968.29 | I10: N5.21
A11: - avgang anskaffelseskost i 2024 (-) | B11: 0 | E11: 0 | F11: -60.12656 | G11: -1262.877 | H11: =SUM(B11:G11) -> -1323.0036 | I11: N5.3
A12: +/- fra anlegg under utførelse til annen gruppe (+/-) | B12: 0 | C12: 174541.25 | D12: -185112.74 | E12: 0 | F12: 10571.485 | H12: =SUM(B12:G12) -> 1.4551915e-11 | I12: N5.4
A13: Anskaffelseskost 31.12.2024 | B13: =SUBTOTAL(9,B7:B12) -> 916619.99 | C13: =SUBTOTAL(9,C7:C12) -> 22088105 | D13: =SUBTOTAL(9,D7:D12) -> 119132.84 | E13: =SUBTOTAL(9,E7:E12) -> 0 | F13: =SUBTOTAL(9,F7:F12) -> 2444759.6 | G13: =SUBTOTAL(9,G7:G12) -> 1619135.1 | H13: =SUBTOTAL(9,H7:H12) -> 27187752 | I13: N5.5
A14: - akkumulerte nedskrivninger pr. 31.12.2023 (-) | E14: 0 | F14: 0 | G14: 0 | H14: =SUM(B14:G14) -> 0 | I14: N5.6
A15: - nedskrivninger i 2024 (-) | E15: 0 | F15: 0 | G15: 0 | H15: =SUM(B15:G15) -> 0 | I15: N5.7
A16: - akkumulerte avskrivninger pr. 31.12.2023 (-) | B16: 0 | C16: -13252594 | D16: 0 | E16: 0 | F16: -1880477.5 | G16: -993372.69 | H16: =SUM(B16:G16) -> -16126444 | I16: N5.8
A17: - ordinære avskrivninger i 2024 (-) | B17: 0 | C17: -374701.07 | E17: 0 | F17: -105860.42 | G17: -172935.32 | H17: =SUM(B17:G17) -> -653496.81 | I17: N5.9
A18: + akkumulert avskrivning ved avgang i 2024 (+) | B18: 0 | E18: 0 | F18: 60.12656 | G18: 1224.5728 | H18: =SUM(B18:G18) -> 1284.6994 | I18: N5.10
A19: Balanseført verdi 31.12.2024 | B19: =SUBTOTAL(9,B7:B18) -> 916619.99 | C19: =SUBTOTAL(9,C7:C18) -> 8460809.6 | D19: =SUBTOTAL(9,D7:D18) -> 119132.84 | E19: =SUBTOTAL(9,E7:E18) -> 0 | F19: =SUBTOTAL(9,F7:F18) -> 458481.78 | G19: =SUBTOTAL(9,G7:G18) -> 454051.64 | H19: =SUBTOTAL(9,H7:H18) -> 10409096 | I19: N5.11
A21: Avskrivningssatser (levetider) | B21: Ingen avskrivning | C21: 10-60 år dekomponert lineært | D21: Ingen avskrivning | E21: Virksomhets-spesifikt | F21: 3-15 år lineært | G21: 3-15 år lineært
A23: Tilleggsopplysninger når det er avhendet anleggsmidler:
A24: Vederlag ved avhending av anleggsmidler | B24: 0 | C24: 0 | D24: 0 | E24: 0 | F24: 0 | G24: 11.68536 | H24: =SUM(B24:G24) -> 11.68536 | I24: N5.12
A25: - bokført verdi av avhendede anleggsmidler (-) | B25: 0 | C25: 0 | D25: 0 | E25: 0 | F25: 0 | G25: -38.30421 | H25: =SUM(B25:G25) -> -38.30421 | I25: N5.13
A26: Regnskapsmessig gevinst/tap | B26: =SUBTOTAL(9,B24:B25) -> 0 | C26: =SUBTOTAL(9,C24:C25) -> 0 | D26: =SUBTOTAL(9,D24:D25) -> 0 | E26: =SUBTOTAL(9,E24:E25) -> 0 | F26: =SUBTOTAL(9,F24:F25) -> 0 | G26: =SUBTOTAL(9,G24:G25) -> -26.61885 | H26: =SUBTOTAL(9,H24:H25) -> -26.61885 | I26: N5.14
A28: Resterende forpliktelse vedrørende bokført verdi av avhendede anleggsmidler er inntektsført og vist i note 1 som "utsatt inntekt fra forpliktelse knyttet til investeringer, bokført verdi avhendede anleggsmidler" .

Sheet Note6
A2: =Resultatregnskap!A3 -> Virksomhet: Universitetet i Oslo
A4: Note 6 Finansinntekter og finanskostnader
A5: Beløp i 1000 kroner
B6: =Resultatregnskap!C6 -> 45657 | C6: =Resultatregnskap!D6 -> 45291 | D6: Referanse
A7: Finansinntekter
A9: Renteinntekter | B9: 4934.8691 | C9: 4134.5291 | D9: N6.1
A10: Valutagevinst (agio) | B10: 8029.1668 | C10: 8290.3448 | D10: N6.2
A11: Reversering av tidligere nedskrivning (oppskrivning til kostpris) | B11: 0 | C11: 0 | D11: N6.2A
A12: Utbytte fra eierandeler i selskaper mv. (spesifiseres i avsnittet nedenfor) | B12: =B29 -> 0 | C12: =C29 -> 0 | D12: N6.2B
A13: Annen finansinntekt | B13: 19.62221 | C13: 323.79742 | D13: N6.3
A14: Sum finansinntekter | B14: =SUM(B9:B13) -> 12983.658 | C14: =SUM(C9:C13) -> 12748.671 | D14: N6.4
A16: Finanskostnader
A18: Rentekostnad | B18: 116.05873 | C18: 235.34463 | D18: N6.5
A19: Nedskrivning av aksjer | B19: 0 | C19: 0 | D19: N6.6
A20: Valutatap (disagio) | B20: 0 | C20: 0 | D20: N6.7
A21: Annen finanskostnad | B21: 6652.5011 | C21: 11709.762 | D21: N6.8
A22: Sum finanskostnader | B22: =SUM(B18:B21) -> 6768.5598 | C22: =SUM(C18:C21) -> 11945.106 | D22: N6.9
A24: Spesifikasjon av utbytte fra eierandeler i selskaper mv..
A25: Mottatt utbytte fra selskap X | B25: 0 | C25: 0 | D25: N6.010
A26: Mottatt utbytte fra selskap Y | B26: 0 | C26: 0 | D26: N6.010
A27: Mottatt utbytte fra selskap Z | B27: 0 | C27: 0 | D27: N6.010
A28: Mottatt utbytte fra andre selskap1) | B28: 0 | C28: 0 | D28: N6.011
A29: Sum mottatt utbytte | B29: =SUM(B25:B28) -> 0 | C29: =SUM(C25:C28) -> 0 | D29: N6.11
A31: 1) Spesifiseres om nødvendig på egne linjer under oppstillingen.

Sheet Note 8
A2: =Resultatregnskap!A3 -> Virksomhet: Universitetet i Oslo
A4: Note 8 Innskutt og opptjent virksomhetskapital (nettobudsjetterte virksomheter)
A5: Beløp i 1000 kroner
A7: Nettobudsjetterte virksomheter kan ikke etablere virksomhetskapital innenfor den bevilgningsfinansierte og bidragsfinansierte aktiviteten, se note 15. Opptjent virksomhetskapital tilsvarer dermed resultatet fra oppdragsfinansiert aktivitet.
A10: Universitet og høyskoler kan anvende opptjent virksomhetskapital til å finansiere investeringer i randsonevirksomhet. Når virksomhetskapital er anvendt til dette formålet, er den å anse som bundet opptjent virksomhetskapital, dvs. den kan ikke anvendes til å dekke eventuelle underskudd innenfor den løpende driften.
A12: Innskutt virksomhetskapital er kapitalene knyttet til aksjer som ble finansiert av bevilgning på 90-post og som derfor tidligere var klassifisert som aksjer i gruppe 1. Disse aksjene føres nå i gruppe 2 og er overført til den enkelte institusjons virksomhetsregnskap. Innskutt virksomhetskapital skal anses som bundet.
A14: Innskutt virksomhetskapital: | B14: Beløp | C14: Referanse
A15: Innskutt virksomhetskapital 31.12.2023 | B15: 6022.588 | C15: N8I.011
A16: Oppskrivning av eierandeler i perioden (+) | B16: 0 | C16: N8I.012
A17: Nedskrivning av eierandeler i perioden (-) | B17: 0 | C17: N8I.013
A18: Salg av eierandeler i perioden (-) | B18: 0 | C18: N8I.014
A19: Kjøp av eierandeler i perioden (+) | B19: 0 | C19: N8I.015
A20: Innskutt virksomhetskapital 31.12.2024 | B20: =SUBTOTAL(9,B15:B19) -> 6022.588 | C20: N8I.1
A22: Bunden opptjent virksomhetskapital:
A23: Bunden opptjent virksomhetskapital pr. 31.12.2023 | B23: 25232.79 | C23: N8I.021
A24: Kjøp av aksjer i perioden | B24: 0 | C24: N8I.022
A25: Bokført verdi solgte aksjer i perioden (-) | B25: 0 | C25: N8I.023
A26: Reversering av tidligere nedskrivning av aksjer i perioden | B26: 0 | C26: N8I.024
A27: Nedskrivning av aksjer i perioden (-) | B27: 0 | C27: N8I.025
A28: Bunden opptjent virksomhetskapital 31.12.2024 | B28: =SUBTOTAL(9,B23:B27) -> 25232.79 | C28: N8I.2
A30: Innskutt og bunden opptjent virksomhetskapital 31.12.2024 | B30: =SUBTOTAL(9,B15:B28) -> 31255.378 | C30: N8I.SUM
A32: Annen opptjent virksomhetskapital:
A33: Annen opptjent virksomhetskapital 31.12.2023 | B33: 198558.94 | C33: N8II.011
A34: Underskudd bevilgningsfinansiert aktivitet belastet annen opptjent virksomhetskapital (-) | B34: 0 | C34: N8II.012
A35: Overført fra periodens resultat | B35: =-Resultatregnskap!C34 -> 13815.964 | C35: N8II.013
A36: Overført til/fra bunden virksomhetskapital (+/-) | B36: 0 | C36: N8II.014
A37: Annen opptjent virksomhetskapital 31.12.2024 | B37: =SUBTOTAL(9,B33:B36) -> 212374.9 | C37: N8II.1
A39: Sum virksomhetskapital 31.12.2024 | B39: =SUBTOTAL(9,B15:B38) -> 243630.28 | C39: N8.TOTAL
A41: Nettobudsjetterte virksomheter kan eventuelt supplere med ytterligere spesifikasjon og gruppering av opptjent virksomhetskapital på egne linjer under oppstillingen. (Gjelder f. eks. virksomheter som fordeler opptjent virksomhetskapital til underliggende driftsenheter)

Sheet Note 9 og 10
A2: =Resultatregnskap!A3 -> Virksomhet: Universitetet i Oslo
A4: Note 9 Innkrevningsvirksomhet og andre overføringer til staten
A5: Beløp i 1 000 kr
B6: =Resultatregnskap!C6 -> 45657 | C6: =Resultatregnskap!D6 -> 45291
A7: Avgifter og gebyrer direkte til statskassen:
A8: Avgift A | B8: 0 | C8: 0
A9: Avgift B | B9: 0 | C9: 0
A10: Sum avgifter og gebyrer direkte til statskassen | B10: =SUBTOTAL(9,B8:B9) -> 0 | C10: =SUBTOTAL(9,C8:C9) -> 0
A12: Fordringer vedrørende innkrevingsvirksomhet og andre overføringer
A13: Fordringer til pålydende | B13: 0 | C13: 0
A14: Avsatt til forventet tap (-) | B14: 0 | C14: 0
A15: Sum fordringer vedrørende innkrevingsvirksomhet og andre overføringer til staten | B15: =SUBTOTAL(9,B13:B14) -> 0 | C15: =SUBTOTAL(9,C13:C14) -> 0
A18: Note 10 Tilskuddsforvaltning
A19: Beløp i 1 000 kr
A20: Gjelder forvaltning av tilskudd bevilget over statsbudsjettet
B22: =Resultatregnskap!C6 -> 45657 | C22: =Resultatregnskap!D6 -> 45291 | D22: Referanse
A23: Tilskudd til virksomhet A | B23: 0 | C23: 0 | D23: N10.01
A24: Tilskudd til virksomhet B | B24: 0 | C24: 0 | D24: N10.01
A25: Tilskudd til virksomhet C | B25: 0 | C25: 0 | D25: N10.01
A26: Andre tilskudd | B26: 0 | C26: 0 | D26: N10.02
A27: Sum tilskuddsforvaltning | B27: =SUM(B23:B26) -> 0 | C27: =SUM(C23:C26) -> 0 | D27: N10.1
A29: Merknad: Dersom virksomheten forvalter flere tilskuddsordninger av betydning, tilføyes flere linjer med referanse N10.01. Mindre tilskuddsordninger kan slås sammen og spesifiseres på linjen "Andre tilskuddsordninger" med referanse N10.02.

Sheet Note 10B
A2: =Resultatregnskap!A3 -> Virksomhet: Universitetet i Oslo
A4: Note 10B Ikke utbetalt bevilgning mottatt til tilskuddsforvaltning (nettobudsjetterte)
B6: Inngående balanse bevilgning | C6: Årets bevilgning | D6: Samlet bevilgning | E6: Utbetalt til tilskudds-mottaker | F6: Ikke utbetalt til tilskudds-mottaker 1) | G6: Referanse
A9: Kilde A | B9: 0 | C9: 0 | D9: =B9+C9 -> 0 | E9: 0 | F9: =D9-E9 -> 0 | G9: N10B.01
A10: Kilde B | B10: 0 | C10: 0 | D10: =B10+C10 -> 0 | E10: 0 | F10: =D10-E10 -> 0 | G10: N10B.01
A11: Kilde C | B11: 0 | C11: 0 | D11: =B11+C11 -> 0 | E11: 0 | F11: =D11-E11 -> 0 | G11: N10B.01
A12: Andre kilder | B12: 0 | C12: 0 | D12: =B12+C12 -> 0 | E12: 0 | F12: =D12-E12 -> 0 | G12: N10B.02
A13: Sum | B13: =SUBTOTAL(9,B9:B12) -> 0 | C13: =SUBTOTAL(9,C9:C12) -> 0 | D13: =+C13+B13 -> 0 | E13: =SUM(E9:E12) -> 0 | F13: =+D13-E13 -> 0 | G13: N10B.1
A15: 1) Spesifikasjon hvis noe er reskontroførte (ikke utbetalte) tilsagn
A17: Tilskuddsordning A | B17: 0
A18: Tilskuddsordning B | B18: 0
A19: Tilskuddsordning C | B19: 0
A20: Andre tilskuddsordninger | B20: 0
A21: Sum gjeld | B21: =SUBTOTAL(9,B17:B20) -> 0
A23: Merknad: Dersom virksomheten forvalter flere tilskuddsordninger av betydning, tilføyes flere linjer med referanse N10B.01. Mindre tilskuddsordninger kan slås sammen og spesifiseres på linjen "Andre tilskuddsordninger/Andre kilder" med referanse N10B.02.

Sheet Note11
A2: =Resultatregnskap!A3 -> Virksomhet: Universitetet i Oslo
A4: Note 11 Investeringer i aksjer og selskapsandeler
A5: Beløp i 1000 kroner
B6: Organisasjons-nummer | C6: Ervervsdato | D6: Antall aksjer | E6: Eierandel | F6: Stemme-andel | G6: Årets resultat i selskapet* | H6: Balanseført egenkapital i selskapet** | I6: Balanseført verdi i virksomhets-regnskapet | J6: Kostpris rapportert til kapital-regnskapet | K6: Referanse
A7: Aksjer
A8: Unirand AS | B8: 985163049 | C8: 2004 | D8: 2025 | E8: 1 | F8: 1 | G8: -206.35 | H8: 2514 | I8: 4050 | J8: 4050 | K8: N11.010
A9: Oslotech AS*** | B9: 937268815 | C9: 1984 | D9: 1826 | E9: 0.334 | F9: 0.334 | G9: 8031 | H9: 189791.12 | I9: 5622.588 | J9: 5622.588 | K9: N11.010
A10: Norsk medisinsk syklotronsenter AS | B10: 986358692 | C10: 2003 | D10: 100 | E10: 0.2 | F10: 0.2 | G10: -11660 | H10: 17949 | I10: 400 | J10: 400 | K10: N11.010
A11: Inven2 AS | B11: 995495899 | C11: 2010 | D11: 5000 | E11: 0.5 | F11: 0.5 | G11: -2245 | H11: 193575 | I11: 20100 | J11: 20100 | K11: N11.010
A12: VisitOSLO AS | B12: 963444516 | C12: 2010 | D12: 1 | E12: 0.005 | F12: 0.005 | G12: -650 | H12: 5578 | I12: 10 | J12: 10 | K12: N11.010
A13: CIENS AS | B13: 993748307 | C13: 2009 | D13: 15 | E13: 0.143 | F13: 0.143 | G13: 110 | H13: 323 | I13: 15 | J13: 15 | K13: N11.010
A14: Øvrige selskaper*** | D14: 0 | E14: 0 | F14: 0 | G14: 0 | H14: 0 | I14: 0 | J14: 0 | K14: N11.011
A15: Sum aksjer | D15: =SUBTOTAL(9,D8:D14) -> 8967 | G15: =SUBTOTAL(9,G8:G13) -> -6620.35 | H15: =SUBTOTAL(9,H8:H13) -> 409730.12 | I15: =SUBTOTAL(9,I8:I13) -> 30197.588 | J15: =SUBTOTAL(9,J8:J13) -> 30197.588 | K15: N11.1
A17: Andeler (herunder leieboerinnskudd)
A18: Leierettsbevis Studentbyen Sogn | D18: 0 | G18: 0 | H18: 0 | I18: 750 | J18: 750 | K18: N11.021
A19: Pantobligasjoner studenthyttene | D19: 0 | G19: 0 | H19: 0 | I19: 307.79 | J19: 0 | K19: N11.021
A20: Øvrige selskap*** | D20: 0 | G20: 0 | H20: 0 | I20: 0 | J20: 0 | K20: N11.022
A21: Sum andeler | D21: =SUBTOTAL(9,D18:D20) -> 0 | G21: =SUBTOTAL(9,G18:G20) -> 0 | H21: =SUBTOTAL(9,H18:H20) -> 0 | I21: =SUBTOTAL(9,I18:I20) -> 1057.79 | J21: =SUBTOTAL(9,J18:J20) -> 750 | K21: N11.2
A23: Balanseført verdi 31.12.2024 | G23: =SUBTOTAL(9,G8:G22) -> -6620.35 | H23: =SUBTOTAL(9,H8:H22) -> 409730.12 | I23: =SUBTOTAL(9,I8:I22) -> 31255.378 | J23: =SUBTOTAL(9,J8:J22) -> 30947.588 | K23: N11.3
A25: * Gjelder bokført resultat i vedkommende selskaps siste avlagte årsregnskap
A26: ** Gjelder bokført egenkapital i vedkommende selskaps siste avlagte årsregnskap
A27: *** Vesentlige poster spesifiseres i eget avsnitt under oppstillingen
A29: *** Oslotech AS aksjer er inndelt i 1 271 A-aksjer og 555 B-aksjer.

Sheet Note 11A
A2: =Resultatregnskap!A3 -> Virksomhet: Universitetet i Oslo
A4: Note 11A Andre fordringer*
A5: Beløp i 1000 kroner
B6: ='Balanse - eiendeler'!C6 -> 45657 | C6: ='Balanse - eiendeler'!D6 -> 45291 | D6: Referanse
A8: Fordring 1 | B8: 0 | C8: 0 | D8: N11A.01
A9: Fordring 2 | B9: 0 | C9: 0 | D9: N11A.02
A10: Fordring 3 | B10: 0 | C10: 0 | D10: N11A.03
A11: Sum andre fordringer | B11: =SUBTOTAL(9,B8:B10) -> 0 | C11: =SUBTOTAL(9,C8:C10) -> 0 | D11: N11A.1
A13: *Her spesifiseres alle vesentlige langsiktige fordringer, eksempelvis forskuddsbetalt husleie over kontraktstidens løpetid

Sheet Note12, 13 og 14
A2: =Resultatregnskap!A3 -> Virksomhet: Universitetet i Oslo
A4: Note 12 Beholdninger av varer og driftsmateriell
A5: Beløp i 1000 kroner
B6: ='Balanse - eiendeler'!C6 -> 45657 | C6: ='Balanse - Gjeld og kapital'!D5 -> 45291 | D6: Referanse
A7: Anskaffelseskost
A8: Råvarer og innkjøpte halvfabrikata | B8: 0 | C8: 0 | D8: N12.1
A9: Varer under tilvirkning | B9: 0 | C9: 0 | D9: N12.1
A10: Ferdige egentilvirkede varer og driftsmateriell | B10: 0 | C10: 0 | D10: N12.1
A11: Innkjøpte varer (ferdigvarer) og driftsmateriell | B11: 4369.3089 | C11: 4415.2837 | D11: N12.2
A12: Sum anskaffelseskost | B12: =SUM(B8:B11) -> 4369.3089 | C12: =SUM(C8:C11) -> 4415.2837 | D12: N12.3
A14: Ukurans
A15: Ukurans i råvarer og innkjøpte halvfabrikata | B15: 0 | C15: 0 | D15: N12.4
A16: Ukurans i varer under tilvirkning | B16: 0 | C16: 0 | D16: N12.4
A17: Ukurans i ferdige egentilvirkede varer | B17: 0 | C17: 0 | D17: N12.4
A18: Ukurans i innkøpte varer (ferdigvarer) | B18: 0 | C18: 0 | D18: N12.5
A19: Nedskrivning av driftsmateriell | B19: 0 | C19: 0 | D19: N12.5A
A20: Sum ukurans | B20: =SUM(B15:B19) -> 0 | C20: =SUM(C15:C19) -> 0 | D20: N12.6
A22: Sum beholdninger av varer og driftsmateriell | B22: =B12-B20 -> 4369.3089 | C22: =C12-C20 -> 4415.2837 | D22: N12.7
A24: Note 13 Kundefordringer
A25: Beløp i 1000 kroner | B25: =B6 -> 45657 | C25: =C6 -> 45291 | D25: Referanse
A27: Kundefordringer til pålydende | B27: 235945.37 | C27: 357919 | D27: N13.1
A28: Avsatt til latent tap (-) | B28: -237.75318 | C28: -23.10277 | D28: N13.2
A29: Sum kundefordringer | B29: =SUM(B27:B28) -> 235707.62 | C29: =SUM(C27:C28) -> 357895.9 | D29: N13.3
A31: Note 14 Andre kortsiktige fordringer
A32: Beløp i 1000 kroner
B33: =B25 -> 45657 | C33: =C25 -> 45291 | D33: Referanse
A34: Forskuddsbetalt lønn | B34: 8030.8129 | C34: 8700.9238 | D34: N14.1
A35: Reiseforskudd | B35: 2258.3346 | C35: 2712.3701 | D35: N14.2
A36: Personallån | B36: 130.37392 | C36: 200.28684 | D36: N14.3
A37: Andre fordringer på ansatte | D37: N14.4
A38: Forskuddsbetalt leie | B38: 13622.537 | C38: 28429.049 | D38: N14.5A
A39: Andre forskuddsbetalte kostnader | B39: 2467.5048 | C39: 1953.2211 | D39: N14.5B
A40: Andre fordringer | B40: 27835.418 | C40: 21139.01 | D40: N14.6
A41: Fordring på datterselskap mv.1) | B41: 0 | C41: 0 | D41: N14.7
A42: Sum andre fordringer | B42: =SUM(B34:B41) -> 54344.982 | C42: =SUM(C34:C41) -> 63134.861 | D42: N14.8
A44: 1) gjelder også tilknyttet selskap (TS) og felleskontrollert virksomhet.

Sheet Note15 
A2: =Resultatregnskap!A3 -> Virksomhet: Universitetet i Oslo
A4: Note 15 Avregning bevilgningsfinansiert og bidragsfinansiert aktivitet mv. (nettobudsjetterte virksomheter)
A5: Beløp i 1000 kroner
A7: Den andel av ordinære bevilgninger og midler som er inntektsført, men ikke benyttet ved regnskapsavslutningen, er å anse som en forpliktelse. Det skal spesifiseres hvilke formål bevilgningen forutsettes å dekke i påfølgende termin. Vesentlige poster skal spesifiseres i egne avsnitt under oppstillingen.
A11: Det er foretatt følgende interne avsetninger til de angitte prioriterte oppgaver/formål innenfor ordinær bevilgningsfinansiert aktivitet og aktivitet som skal behandles tilsvarende:
A14: Del I: Inntektsførte bevilgninger | B14: Avsetning pr. 31.12.2024 | C14: Overført fra virksomhets-kapital | D14: Avsetning pr. 31.12.2023 | E14: Endring i perioden | F14: Referanse
A15: Kunnskapsdepartementet
A16: Konkrete påbegynte, ikke fullførte driftsoppgaver
A17: Oppgave 1 | B17: 0 | C17: 0 | D17: 45496 | E17: =B17-D17 -> -45496 | F17: N15I.011
A18: Oppgave 2 | B18: 0 | C18: 0 | D18: 0 | E18: =B18-D18 -> 0 | F18: N15I.011
A19: Oppgave 3 | B19: 0 | C19: 0 | D19: 0 | E19: =B19-D19 -> 0 | F19: N15I.011
A20: Andre oppgaver1) | B20: 0 | C20: 0 | D20: 0 | E20: =B20-D20 -> 0 | F20: N15I.012
A21: SUM konkrete påbegynte, ikke fullførte driftsoppgaver | B21: =SUBTOTAL(9,B17:B20) -> 0 | C21: =SUBTOTAL(9,C17:C20) -> 0 | D21: =SUBTOTAL(9,D17:D20) -> 45496 | E21: =SUBTOTAL(9,E17:E20) -> -45496 | F21: N15I.1
A22: Vedtatte, ikke igangsatte driftsoppgaver
A23: Oppgave 1 | B23: 0 | C23: 0 | D23: 0 | E23: =B23-D23 -> 0 | F23: N15I.021
A24: Oppgave 2 | B24: 0 | C24: 0 | D24: 0 | E24: =B24-D24 -> 0 | F24: N15I.021
A25: Oppgave 3 | B25: 0 | C25: 0 | D25: 0 | E25: =B25-D25 -> 0 | F25: N15I.021
A26: Andre oppgaver1) | B26: 0 | C26: 0 | D26: 0 | E26: =B26-D26 -> 0 | F26: N15I.022
A27: SUM vedtatte, ikke igangsatte driftsoppgaver | B27: =SUBTOTAL(9,B23:B26) -> 0 | C27: =SUBTOTAL(9,C23:C26) -> 0 | D27: =SUBTOTAL(9,D23:D26) -> 0 | E27: =SUBTOTAL(9,E23:E26) -> 0 | F27: N15I.2
A28: Vedtatte, ikke igangsatte investeringsprosjekter
A29: Bærekrafthus, rehabilitering av Farmasibygningen | B29: 237647 | C29: 0 | D29: 250000 | E29: =B29-D29 -> -12353 | F29: N15I.061
A30: Oppgave 2 | B30: 0 | C30: 0 | D30: 0 | E30: =B30-D30 -> 0 | F30: N15I.061
A31: Oppgave 3 | B31: 0 | C31: 0 | D31: 0 | E31: =B31-D31 -> 0 | F31: N15I.061
A32: SUM vedtatte, ikke igangsatte investeringsprosjekter | B32: =SUBTOTAL(9,B29:B31) -> 237647 | C32: =SUBTOTAL(9,C29:C31) -> 0 | D32: =SUBTOTAL(9,D29:D31) -> 250000 | E32: =SUBTOTAL(9,E29:E31) -> -12353 | F32: N15I.6
A33: Påbegynte investeringsprosjekter
A34: Rehabilitering av fasade Roma, inklusiv arealeffektivisering | B34: 0 | C34: 0 | D34: 25000 | E34: =B34-D34 -> -25000 | F34: N15I.031
A35: Innfesting og fugearmering teglstein i Niels Henrik Abels hus | B35: 7500 | C35: 0 | D35: 20000 | E35: =B35-D35 -> -12500 | F35: N15I.031
A36: Utskifting av kjølesystem Georg Sverdrups hus | B36: 1500 | C36: 0 | D36: 20000 | E36: =B36-D36 -> -18500 | F36: N15I.031
A37: Ombygging av disseksjonssal 1 og 2 i Domus Medica | B37: 1500 | C37: 0 | D37: 22000 | E37: =B37-D37 -> -20500 | F37: N15I.031
A38: Tilrettelegging for Honours i Kristine Bonnevies hus | B38: 15500 | C38: 0 | D38: 16000 | E38: =B38-D38 -> -500 | F38: N15I.031
A39: Tilrettelegging for Create i Kristine Bonnevies hus | B39: 0 | C39: 0 | D39: 30500 | E39: =B39-D39 -> -30500 | F39: N15I.031
A40: Arealeffektivisering for Create i Helga Engs hus | B40: 15000 | C40: 0 | D40: 17000 | E40: =B40-D40 -> -2000 | F40: N15I.031
A41: Oppgradering Eilert Sundt hus B | B41: 5218 | C41: 0 | D41: 8000 | E41: =B41-D41 -> -2782 | F41: N15I.031
A42: I-Lab og taket på Kjemibygningen | B42: 0 | C42: 0 | D42: 71000 | E42: =B42-D42 -> -71000 | F42: N15I.031
A43: Forskningsinfrastruktur | B43: 1737 | C43: 0 | D43: 43000 | E43: =B43-D43 -> -41263 | F43: N15I.031
A44: SUM påbegynte investeringsprosjekter | B44: =SUBTOTAL(9,B34:B43) -> 47955 | C44: =SUBTOTAL(9,C34:C43) -> 0 | D44: =SUBTOTAL(9,D34:D43) -> 272500 | E44: =SUBTOTAL(9,E34:E43) -> -224545 | F44: N15I.3
A45: Andre formål
A46: Formål 1 | B46: 0 | C46: 0 | D46: 0 | E46: =B46-D46 -> 0 | F46: N15I.041
A47: Formål 2 | B47: 0 | C47: 0 | D47: 0 | E47: =B47-D47 -> 0 | F47: N15I.041
A48: Formål 3 | B48: 0 | C48: 0 | D48: 0 | E48: =B48-D48 -> 0 | F48: N15I.041
...

Sheet Note 16
A2: =Resultatregnskap!A3 -> Virksomhet: Universitetet i Oslo
A4: Note 16 Opptjente, ikke fakturerte inntekter/Mottatt forskuddsbetaling
A5: Beløp i 1000 kroner
A7: DEL I
A9: Opptjente, ikke fakturerte inntekter | B9: ='Balanse - eiendeler'!C6 -> 45657 | C9: ='Balanse - eiendeler'!D6 -> 45291 | D9: Referanse
A10: Oppdragsfinansiert aktivitet - statlige etater1) | B10: 23771.863 | C10: 20875 | D10: N16.010A
A11: Oppdragsfinansiert aktivitet - kommunale og fylkeskommunale etater1) | B11: 4202.5728 | C11: 3629 | D11: N16.010B
A12: Oppdragsfinansiert aktivitet - organisasjoner og stiftelser1) | B12: 4696.1862 | C12: 3069 | D12: N16.010C
A13: Oppdragsfinansiert aktivitet - næringsliv/private1) | B13: 22325.462 | C13: 22378 | D13: N16.010D
A14: Oppdragsfinansiert aktivitet - andre1) | B14: 44387.352 | C14: 40380 | D14: N16.010E
A15: Andre prosjekter2) | B15: 12814.949 | C15: 7506 | D15: N16.011
A16: Sum opptjente, ikke fakturerte inntekter | B16: =SUM(B10:B15) -> 112198.39 | C16: =SUM(C10:C15) -> 97837 | D16: N16.1
A18: DEL II
A20: Mottatt forskuddsbetaling | B20: =B9 -> 45657 | C20: =C9 -> 45291 | D20: Referanse
A21: Oppdragsfinansiert aktivitet - statlige etater1) | B21: 99828.764 | C21: 82555 | D21: N16.021A
A22: Oppdragsfinansiert aktivitet - kommunale og fylkeskommunale etater1) | B22: 32621.578 | C22: 42473 | D22: N16.021B
A23: Oppdragsfinansiert aktivitet - organisasjoner og stiftelser1) | B23: 10003.214 | C23: 4244 | D23: N16.021C
A24: Oppdragsfinansiert aktivitet - næringsliv/private1) | B24: 116847.58 | C24: 118925 | D24: N16.021D
A25: Oppdragsfinansiert aktivitet - andre1) | B25: 30523.65 | C25: 28457 | D25: N16.021E
A26: Andre prosjekter2) | B26: 25210.947 | C26: 96011 | D26: N16.022
A27: Sum mottatt forskuddsbetaling | B27: =SUM(B21:B26) -> 315035.74 | C27: =SUM(C21:C26) -> 372665 | D27: N16.2
A29: Prosjektene spesifiseres etter sin art.
A31: 1) Gjelder aktivitet som faller inn under bestemmelsene i F-07-13. Vesentlige poster spesifiseres i egne avsnitt under oppstillingen.
A34: 2) Gjelder aktivitet som ikke tilfredsstiller kravene i F-07-13. Vesentlige poster spesifiseres i egne avsnitt under oppstillingen.

Sheet Note 17 og 18
A2: =Resultatregnskap!A3 -> Virksomhet: Universitetet i Oslo
A4: Note 17 Bankinnskudd, kontanter og lignende2)
A5: Beløp i 1000 kroner
B6: ='Balanse - eiendeler'!C6 -> 45657 | C6: ='Balanse - eiendeler'!D6 -> 45291 | D6: Referanse
A7: Innskudd statens konsernkonto (nettobudsjetterte virksomheter) 3) | B7: 3007999.8 | C7: 2986197.8 | D7: N17.1
A8: Bankinnskudd for gaver og gaveforsterkninger3) | B8: 101354.6 | C8: 116333.42 | D8: N17.2A
A9: Øvrige bankkontoer1) | B9: 176446.8 | C9: 153494.59 | D9: N17.2B
A10: Kontantbeholdninger1) | B10: 47.62958 | C10: 119.19465 | D10: N17.3
A11: Sum bankinnskudd og kontanter | B11: =SUM(B7:B10) -> 3285848.9 | C11: =SUM(C7:C10) -> 3256145 | D11: N17.4
A13: 1) Vesentlige beholdninger skal spesifiseres i egne avsnitt under oppstillingen.
A14: 2) Bankinnskudd og andre beholdninger skal oppgis i tusen kroner med tre desimaler.
A15: 3) Skal samsvare med kontoutskrift for oppgjørskontoen fra Norges Bank.
A17: Note 18 Annen kortsiktig gjeld
A18: Beløp i 1000 kroner
B19: =B6 -> 45657 | C19: =C6 -> 45291 | D19: Referanse
A20: Skyldig lønn | B20: 27438 | C20: 18255 | D20: N18.1
A21: Skyldige reiseutgifter | B21: 0 | C21: 0 | D21: N18.2
A22: Annen gjeld til ansatte | B22: 139617 | C22: 137559 | D22: N18.3
A23: Avsetning for lønnsoppgjøret 2024* | B23: 91814 | C23: 0 | D23: N18.3A
A24: Påløpte kostnader | B24: 76790 | C24: 75977 | D24: N18.4
A25: Midler som skal videreformidles til andre1) | B25: 280867 | C25: 163352 | D25: N18.4A
A26: Annen kortsiktig gjeld | B26: 21249 | C26: 12050 | D26: N18.5
A27: Gjeld til datterselskap m.v2) | B27: -0.4 | C27: 0 | D27: N18.6
A28: Sum | B28: =SUM(B20:B27) -> 637774.6 | C28: =SUM(C20:C27) -> 407193 | D28: N18.7
A32: 1)Midler som skal videreformidles til andre | B32: 45657 | C32: 45291
A33: KD- Statsbygg | B33: 50000 | C33: 0
A34: EU | B34: 92247 | C34: 55794
A35: NFR | B35: 9430 | C35: 16175
A36: Andre | B36: 129190 | C36: 91383
A37: Sum | B37: =SUM(B33:B36) -> 280867 | C37: =SUM(C33:C36) -> 163352
A40: 1) Gjelder midler som skal videreformidles til andre samarbeidspartnere i neste termin.
A41: Alle vesentlige poster skal spesifiseres i egne avsnitt under oppstillingen. Se også note 20 om spesifikasjon av midler som er videreformidlet.
A44: 2) Gjelder også tilknyttet selskap (TS) og felleskontrollert virksomhet.
A45: Alle vesentlige poster skal spesifiseresi egne avsnitt under oppstillingen.
A47: *På bakgrunn av at lønnsoppgjøret i staten for 2024 ikke var ferdigstilt før i slutten av november, har ikke UıO utbetalt resultatet av lønnsoppgjøret i 2024.UıO har derfor gjort et estimat for lønnsavsetningen for det sentrale lønnsoppgjøret (lokale og eventuelt sentrale tillegg), jf. note 2.

Sheet Note 19
A2: =Resultatregnskap!A3 -> Virksomhet: Universitetet i Oslo
A4: Note 19 Avsetninger langsiktige forpliktelser
A5: Beløp i 1000 kroner
B6: ='Balanse - Gjeld og kapital'!C5 -> 45657 | C6: ='Balanse - Gjeld og kapital'!D5 -> 45291 | D6: Referanse
A7: Gaver | B7: 129971 | C7: 144252 | D7: N19.01
A8: Gaveforsterkninger | B8: -4 | C8: -352 | D8: N19.02
A9: Andre avsetninger langsiktige forpliktelser 1) | B9: 0 | C9: 0 | D9: N19.03
A10: Sum avsetninger langsiktige forpliktelser | B10: =SUM(B7:B9) -> 129967 | C10: =SUM(C7:C9) -> 143900 | D10: N19.1
A12: 1) spesiferes i egen opstilling

Sheet Note 20
A2: =Resultatregnskap!A3 -> Virksomhet: Universitetet i Oslo
A3: Opplysningsnote - ikke en del av årsregnskapet som skal presenteres i del VI i årsrapporten
A4: Note 20 Videreformidling av midler til andre
A5: Beløp i 1000 kroner
B6: ='Balanse - Gjeld og kapital'!C5 -> 45657 | C6: ='Balanse - Gjeld og kapital'!D5 -> 45291 | D6: Referanse
A7: Videreformidling av tilskudd og overføringer fra statlige etater
A8: University Of Malawi | B8: 1927 | C8: 2972 | D8: N20.011
A9: Universitetet I Bergen | B9: 1826 | C9: 1675 | D9: N20.011
A10: Fundacao Merdional Imed | B10: 1374 | C10: 0 | D10: N20.011
A11: The University Of Dodoma - Udom Consultancy And Special Program | B11: 1368 | C11: 0 | D11: N20.011
A12: China University Of Political Science And Law | B12: 1318 | C12: 0 | D12: N20.011
A13: Andre videreformidlinger | B13: 27425 | C13: 36271 | D13: N20.011A
A14: Sum videreformidling av tilskudd og overføringer fra statlige etater | B14: =SUBTOTAL(9,B8:B13) -> 35238 | C14: =SUBTOTAL(9,C8:C13) -> 40918 | D14: N20.11
A16: Videreformidling av tilskudd/overføringer fra NFR
A17: Universitetet I Bergen | B17: 39382 | C17: 12073.82 | D17: N20.021
A18: Oslo Universitetssykehus Hf | B18: 31384 | C18: 26363.45 | D18: N20.021
A19: Universitetet I Tromsø - Norges Arktiske Universitet | B19: 18589 | C19: 13548.48 | D19: N20.021
A20: Sintef As | B20: 11400 | C20: 5262.11 | D20: N20.021
A21: Norges Teknisk-Naturvitenskapelige Universitet Ntnu | B21: 10033 | C21: 9306.41 | D21: N20.021
A22: Andre videreformidlinger | B22: 107485 | C22: 116595.48 | D22: N20.021A
A23: Sum videreformidling av tilskudd/overføringer fra NFR | B23: =SUBTOTAL(9,B17:B22) -> 218273 | C23: =SUBTOTAL(9,C17:C22) -> 183149.75 | D23: N20.21
A25: Videreformidling av tilskudd/overføring fra RFF
A26: Uppsala Universitet / Uppsala University | B26: 889 | C26: 0 | D26: N20.031
A27: Videreformidlet til virksomhet B | B27: 0 | C27: 0 | D27: N20.031
A28: Videreformidlet til virksomhet C | B28: 0 | C28: 0 | D28: N20.031
A29: Andre videreformidlinger | B29: 0 | C29: 0 | D29: N20.031A
A30: Sum Videreformidling av tilskudd/overføring fra RFF | B30: =SUBTOTAL(9,B26:B29) -> 889 | C30: =SUBTOTAL(9,C26:C29) -> 0 | D30: N20.31
A32: Videreformidling av tilskudd/overføringer fra diverse bidragsytere1)
A33: University Of Cambridge | B33: 8175 | C33: 0 | D33: N20.041
A34: Oslo Universitetssykehus Hf | B34: 1962 | C34: 6781 | D34: N20.041
